BEGIN:VCALENDAR
PRODID:NingEventWidget-v1
VERSION:2.0
METHOD:PUBLISH
BEGIN:VEVENT
UID:5167423:Event:335189
DTSTAMP:20260424T040036Z
SUMMARY:Birdhouse Cars and Coffee
DESCRIPTION:Cars & Coffee is BACK for 2024! Join us every Sunday at 76
 5 Sullivan Ave, South Windsor, CT 06074. We're serving up freshly roas
 ted coffee, breakfast, and more at our café and taproom in South Wind
 sor, CT.  TIME: Join us from 8AM to 11AM every Sunday. All cars are we
 lcome at this fun-for-all-ages car show.  WEATHER: Car show will not b
 e held if bad weather, snow or heavy rain is anticipated.  RULES: - Fa
 mily-friendly event, please no loud music or revving - No smoking plea
 se - No outside food or beverages - Please be courteous and respectful
  of other attendees  We hope to see you!  Please take care of our host
  venue by ordering & enjoying food/drinks Here: https://www.craverapp
 .com/birdhouse during this event! Outside food & beverages are not per
 mitted.\n\nFor more information visit https://northeastwheelsevents.co
 m/events/birdhouse-cars-and-coffee-1
DTSTART:20241027T120000Z
DTEND:20241027T150000Z
CATEGORIES:cruisein
LOCATION:Birdhouse Coffee Bar and Kitchen
WEBSITE:https://www.facebook.com/events/765-sullivan-ave-south-windsor
 -ct-united-states-connecticut-06074/cars-coffee/1757420548080672/
URL:https://www.facebook.com/events/765-sullivan-ave-south-windsor-ct-
 united-states-connecticut-06074/cars-coffee/1757420548080672/
CONTACT:860-644-2707
ORGANIZER:Connecticut Valley Brewing Company
ATTACH;FMTTYPE="image/jpeg":https://storage.ning.com/topology/rest/1.0
 /file/get/13029385861?profile=original
ATTENDEE;ROLE=REQ-PARTICIPANT;PARTSTAT=ACCEPTED;RSVP=TRUE;CN="William 
 Bruce":https://northeastwheelsevents.com/profile/WilliamBruce
END:VEVENT
END:VCALENDAR
