BEGIN:VCALENDAR
PRODID:NingEventWidget-v1
VERSION:2.0
METHOD:PUBLISH
BEGIN:VEVENT
UID:5167423:Event:103075
DTSTAMP:20260421T111619Z
SUMMARY:Bloomsburg Nationals
DESCRIPTION:Bloomsburg Nationals is a 3 day annual event held at the B
 loomsburg fair grounds in Bloomsburg Pa. \nIt is a family event with 
 music, car events, vendors, and all for charity. Please visit our webs
 ite for online registration or to print and mail your registration. \
 nThere is onsite camping and local hotels. \n\nFor more information v
 isit https://northeastwheelsevents.com/events/bloomsburg-nationals-1
DTSTART:20160812T040000Z
DTEND:20160815T035900Z
CATEGORIES:automotive, 3, day, family, event, to, support, local, "cha
 rity."
LOCATION:Bloomsburg Fair Grounds Bloomsburg Pa.
WEBSITE:http://www.bloomsburgnationals.com
URL:http://www.bloomsburgnationals.com
CONTACT:570-275-0748
ORGANIZER;CN="Thomas Quick":https://northeastwheelsevents.com/profile/
 ThomasQuick
ATTACH;FMTTYPE="image/jpeg":http://storage.ning.com/topology/rest/1.0/
 file/get/2284080616?profile=original
ATTENDEE;ROLE=REQ-PARTICIPANT;PARTSTAT=ACCEPTED;RSVP=TRUE;CN="Thomas Q
 uick":https://northeastwheelsevents.com/profile/ThomasQuick
END:VEVENT
END:VCALENDAR
