BEGIN:VCALENDAR
PRODID:NingEventWidget-v1
VERSION:2.0
METHOD:PUBLISH
BEGIN:VEVENT
UID:5167423:Event:71339
DTSTAMP:20260421T045739Z
SUMMARY:Blossburg Coal Festival Car Show
DESCRIPTION:Car show, carnival, parade thru downtown Blossburg in cele
 bration of the Coal Festival. food vendors, crafts, music\n\nFor more 
 information visit https://northeastwheelsevents.com/events/blossburg-c
 oal-festival-car-show
DTSTART:20150427T130000Z
DTEND:20150427T190000Z
CATEGORIES:car, show, for, the, coal, festival
LOCATION:Island Park on the field
WEBSITE:http://www.blossburgstatecoalfestival.com/index.php/car-show
URL:http://www.blossburgstatecoalfestival.com/index.php/car-show
CONTACT:(570)404-2456
ORGANIZER:Dave and Steve Thompson
ATTACH;FMTTYPE="image/jpeg":http://storage.ning.com/topology/rest/1.0/
 file/get/2284071372?profile=original
ATTENDEE;ROLE=REQ-PARTICIPANT;PARTSTAT=ACCEPTED;RSVP=TRUE;CN="Stan Tha
 rp":https://northeastwheelsevents.com/profile/StanTharp
END:VEVENT
END:VCALENDAR
