BEGIN:VCALENDAR
PRODID:NingEventWidget-v1
VERSION:2.0
METHOD:PUBLISH
BEGIN:VEVENT
UID:5167423:Event:298811
DTSTAMP:20260419T084023Z
SUMMARY:Blue Moon Cruisers 30th Annual Fun Run
DESCRIPTION:Car Show/Charity Fund Raising Event\n\nFor more informatio
 n visit https://northeastwheelsevents.com/events/blue-moon-cruisers-30
 th-annual-fun-run
DTSTART:20220710T130000Z
DTEND:20220710T200000Z
CATEGORIES:car, show
LOCATION:New Kingstown Fire Company
WEBSITE:https://static1.squarespace.com/static/5ee395ea18190a1ff572c47
 a/t/61f03573a2b6c118a65f6037/1643132275311/2022+Fun+Run+Registration.j
 peg
URL:https://static1.squarespace.com/static/5ee395ea18190a1ff572c47a/t/
 61f03573a2b6c118a65f6037/1643132275311/2022+Fun+Run+Registration.jpeg
CONTACT:717-319-6146
ORGANIZER;CN="Jim O'Connell":https://northeastwheelsevents.com/profile
 /JimOConnell
ATTACH;FMTTYPE="image/jpeg":https://storage.ning.com/topology/rest/1.0
 /file/get/10165243678?profile=original
ATTENDEE;ROLE=REQ-PARTICIPANT;PARTSTAT=ACCEPTED;RSVP=TRUE;CN="Jim O'Co
 nnell":https://northeastwheelsevents.com/profile/JimOConnell
END:VEVENT
END:VCALENDAR
