BEGIN:VCALENDAR
PRODID:NingEventWidget-v1
VERSION:2.0
METHOD:PUBLISH
BEGIN:VEVENT
UID:5167423:Event:324954
DTSTAMP:20260421T184601Z
SUMMARY:Blue Moon Rod and Custom Assoc. Cruise
DESCRIPTION:CANCELLED \n\nFor more information visit https://northeas
 twheelsevents.com/events/blue-moon-rod-and-custom-assoc-cruise-732
DTSTART:20240717T210000Z
DTEND:20240718T000000Z
CATEGORIES:cruise
LOCATION:Wertzville Family Restaurant CANCELLED
WEBSITE:
URL:
CONTACT:717-939-7764 or 717-979-4415
ORGANIZER:Don Anderson
ATTACH;FMTTYPE="image/jpeg":https://storage.ning.com/topology/rest/1.0
 /file/get/11020206063?profile=original
ATTENDEE;ROLE=REQ-PARTICIPANT;PARTSTAT=ACCEPTED;RSVP=TRUE;CN="Bill Low
 e":https://northeastwheelsevents.com/profile/BillLowe
END:VEVENT
END:VCALENDAR
