BEGIN:VCALENDAR
PRODID:NingEventWidget-v1
VERSION:2.0
METHOD:PUBLISH
BEGIN:VEVENT
UID:5167423:Event:324951
DTSTAMP:20260421T075739Z
SUMMARY:Blue Moon Rod and Custom Assoc. Cruise
DESCRIPTION:Registration by donation will benefit The American Foundat
 ion for Suicide Prevention, Dash plaques, Door prizes, 50/50,  Oldies
  music, Good food.\nOpen to all Makes, Models and Years of cars, truck
 s and bikes.\n\nRain Date: Wednesday, August 28 2024, 5pm to 8pm\n\nFo
 r more information visit https://northeastwheelsevents.com/events/blue
 -moon-rod-and-custom-assoc-cruise-896
DTSTART:20240619T210000Z
DTEND:20240620T000000Z
CATEGORIES:cruise
LOCATION:Wertzville Family Restaurant
WEBSITE:
URL:
CONTACT:717-939-7764 or 717-979-4415
ORGANIZER:Don Anderson
ATTACH;FMTTYPE="image/jpeg":https://storage.ning.com/topology/rest/1.0
 /file/get/11020206063?profile=original
ATTENDEE;ROLE=REQ-PARTICIPANT;PARTSTAT=ACCEPTED;RSVP=TRUE;CN="Bill Low
 e":https://northeastwheelsevents.com/profile/BillLowe
END:VEVENT
END:VCALENDAR
