BEGIN:VCALENDAR
PRODID:NingEventWidget-v1
VERSION:2.0
METHOD:PUBLISH
BEGIN:VEVENT
UID:5167423:Event:141521
DTSTAMP:20260423T071717Z
SUMMARY:BMC 25th Annual Fun Run Car Show
DESCRIPTION:Open to all Makes and Models Trucks & Imports Pre Registra
 tion-$10.by 7/1/17 Day of Show $15. Award Show, Door Prizes, Special D
 rawings Grand Prize 383 Stroker Motor, $2,000 in various cash prizes. 
 Food, Silent Auction, Flea Market, Bake Sale, 50/50, Great Music- Harr
 y's DJ Service \n\n\nFor more information visit https://northeastwhee
 lsevents.com/events/bmc-25th-annual-fun-run-car-show
DTSTART:20170709T130000Z
DTEND:20170709T200000Z
CATEGORIES:car, show
LOCATION:New Kingstown Fire Company
WEBSITE:http://www.bluemooncruisers.com
URL:http://www.bluemooncruisers.com
CONTACT:717-975-3404
ORGANIZER:Tim Williams
ATTACH;FMTTYPE="image/jpeg":http://storage.ning.com/topology/rest/1.0/
 file/get/2284092608?profile=original
ATTENDEE;ROLE=REQ-PARTICIPANT;PARTSTAT=ACCEPTED;RSVP=TRUE;CN="Blaine M
 cKivison":https://northeastwheelsevents.com/profile/BlaineMcKivison
ATTENDEE;ROLE=REQ-PARTICIPANT;PARTSTAT=ACCEPTED;RSVP=TRUE;CN="Joshua E
 . Sigman":https://northeastwheelsevents.com/profile/JoshuaESigman
END:VEVENT
END:VCALENDAR
