BEGIN:VCALENDAR
PRODID:NingEventWidget-v1
VERSION:2.0
METHOD:PUBLISH
BEGIN:VEVENT
UID:5167423:Event:242605
DTSTAMP:20260420T165031Z
SUMMARY:Gettysburg Region AACA 44th Annual Car & Truck Show at EMMR
DESCRIPTION:Gettysburg Region AACA 44th Annual Car & Truck Show\nAntiq
 ues, classic, muscle,custom, modified from all years, autos and trucks
 . Dash plaques for the first 200 registered vehicles. 50 Participant F
 avorite Judged Trophies plus 12 Club Directs Judged Trophies.  Breakf
 ast and lunch available, flea market and corral.  Eastern Museum of M
 otor Racing on site and open fro free tours. See website for more info
 : www.gettysburgregion.aaca.org\n\nFor more information visit https://
 northeastwheelsevents.com/events/bob-shultz
DTSTART:20190608T110000Z
DTEND:20190608T193000Z
CATEGORIES:car, "&amp", truck, show
LOCATION:Latimore Valley Fairgrounds
WEBSITE:http://www.gettysburgregion.aaca.org
URL:http://www.gettysburgregion.aaca.org
CONTACT:717-766-0457
ORGANIZER:Gettysburg Region AACA
ATTACH;FMTTYPE="image/jpeg":https://storage.ning.com/topology/rest/1.0
 /file/get/1947113409?profile=original
ATTENDEE;ROLE=REQ-PARTICIPANT;PARTSTAT=ACCEPTED;RSVP=TRUE;CN="Allan Ma
 ybee":https://northeastwheelsevents.com/profile/AllanMaybee
END:VEVENT
END:VCALENDAR
