BEGIN:VCALENDAR
PRODID:NingEventWidget-v1
VERSION:2.0
METHOD:PUBLISH
BEGIN:VEVENT
UID:5167423:Event:345094
DTSTAMP:20260423T150056Z
SUMMARY:Boo Bash Bingo
DESCRIPTION:Grab your favorite ghosts and ghouls and join us for our s
 econd annual Boo Bash Bingo! We were BLOWN AWAY by the amazing costume
 s and elaborate table decor last year, and we can’t wait to do it ag
 ain this year — with MORE and BIGGER prizes. If you choose, decorate
  your table — we will have prizes for best dressed and best table de
 cor.Wear a costume, get entered in a drawing for a special door prize!
 Snacks and drinks will be available, but feel free to bring your own s
 nacks and/or alcohol to enjoy during the games as well. Please drink r
 esponsibly.No children under the age of 18 are permitted at this event
 , per PA state law.All proceeds from this BINGO event go to support th
 e mission of Oxford Mainstreet so we can continue to support ourlocal 
 business community and host events like First Friday, the Car Show, Ox
 ford Village Market, and more!When: Sunday, October 5th | Doors open a
 t 11:00am | Game play starts at 1pm\r\nWhere: Redmans Hall – 114 Bri
 ck Road, Oxford PA 19363Tickets: $30 for 20 games | extra games will b
 e available for an additional cost50/50 Coverall Game: It’s a win-wi
 n! Winner takes 50% of the cash we raise for the 50/50 game — previo
 us winners have won over $600.\n\nFor more information visit https://n
 ortheastwheelsevents.com/events/boo-bash-bingo
DTSTART:20251005T150000Z
DTEND:20251005T190000Z
CATEGORIES:carshow
LOCATION:Redmans Hall -
WEBSITE:https://allevents.in/oxford/boo-bash-bingo/200028410563536
URL:https://allevents.in/oxford/boo-bash-bingo/200028410563536
CONTACT:610-998-9494
ORGANIZER:Oxford Mainstreet, Inc.
ATTACH;FMTTYPE="image/jpeg":https://storage.ning.com/topology/rest/1.0
 /file/get/13735474884?profile=original
ATTENDEE;ROLE=REQ-PARTICIPANT;PARTSTAT=ACCEPTED;RSVP=TRUE;CN="William 
 Bruce":https://northeastwheelsevents.com/profile/WilliamBruce
END:VEVENT
END:VCALENDAR
