BEGIN:VCALENDAR
PRODID:NingEventWidget-v1
VERSION:2.0
METHOD:PUBLISH
BEGIN:VEVENT
UID:5167423:Event:334635
DTSTAMP:20260422T225102Z
SUMMARY:Boots and Hank's 1st Annual Truck Show
DESCRIPTION:Bring your truck and show it off!!! Please let us know if 
 you will be bringing a truck so we can register a spot for you!!\r\n\r
 \nOpen to any truck from a compact, a van, a street rod, a 4x4, wrecke
 r to a tractor trailer! \r\nInfo@bootsandhanks.com\r\nhttps://www.boo
 tsandhankstruckparts.com\r\n\n\nFor more information visit https://nor
 theastwheelsevents.com/events/boots-and-hank-s-1st-annual-truck-show
DTSTART:20240928T160000Z
DTEND:20240929T010000Z
CATEGORIES:carshow
LOCATION:Boots &amp; Hanks Heavy Duty Truck Parts lot
WEBSITE:https://www.facebook.com/events/23-rt-435-gouldsboro-pa-18424/
 boots-and-hanks-1st-annual-truck-show/1451182818789083/
URL:https://www.facebook.com/events/23-rt-435-gouldsboro-pa-18424/boot
 s-and-hanks-1st-annual-truck-show/1451182818789083/
CONTACT:800-738-7802
ORGANIZER:Boots &amp; Hanks Heavy Duty Truck Parts
ATTACH;FMTTYPE="image/jpeg":https://storage.ning.com/topology/rest/1.0
 /file/get/12976093473?profile=original
ATTENDEE;ROLE=REQ-PARTICIPANT;PARTSTAT=ACCEPTED;RSVP=TRUE;CN="William 
 Bruce":https://northeastwheelsevents.com/profile/WilliamBruce
END:VEVENT
END:VCALENDAR
