BEGIN:VCALENDAR
PRODID:NingEventWidget-v1
VERSION:2.0
METHOD:PUBLISH
BEGIN:VEVENT
UID:5167423:Event:19704
DTSTAMP:20260422T154753Z
SUMMARY:Bouckville Classics Car Show and Swap Meet
DESCRIPTION:Bouckville Classics Swap Meet and Car Show June 27th-30th 
 2013 brings the excitement and beauty of hundreds of classic and colle
 ctible cars to the infamous Antique Community of Bouckville NY. This n
 ew 4 day Swap meet and car show event will attract cars, collectors an
 d vendors from all over the US and Canada. For up to date info and reg
 istration forms visit www.BouckvilleClassics.com call Jim at 315-440-2
 211 or John at 315-427-5094\nLike us on Facebook or Follow us on Twitt
 er @BvilleClassics\n\nFor more information visit https://northeastwhee
 lsevents.com/events/bouckville-classics-car-show-and-swap-meet
DTSTART:20130627T040000Z
DTEND:20130701T035900Z
CATEGORIES:car, show, swap, meet
LOCATION:Route 20 Bouckville NY Townwide Show
WEBSITE:http://www.bouckvilleclassics.com
URL:http://www.bouckvilleclassics.com
CONTACT:315 440 2211
ORGANIZER:Jim Dutcher
ATTACH;FMTTYPE="image/jpeg":http://storage.ning.com/topology/rest/1.0/
 file/get/2284049437?profile=original
ATTENDEE;ROLE=REQ-PARTICIPANT;PARTSTAT=ACCEPTED;RSVP=TRUE;CN="Katherin
 e Dutcher":https://northeastwheelsevents.com/profile/KatherineDutcher
END:VEVENT
END:VCALENDAR
