BEGIN:VCALENDAR
PRODID:NingEventWidget-v1
VERSION:2.0
METHOD:PUBLISH
BEGIN:VEVENT
UID:5167423:Event:60797
DTSTAMP:20260423T235941Z
SUMMARY:Boyertown Holiday Open House Tour
DESCRIPTION:Hosted by the Holiday House Tour Committee, Boyertown's ho
 liday season begins the first Friday in December(December 5th), featu
 ring homes, historic buildings, and an assortment of businesses in th
 e Borough of Boyertown. Tickets are sold at Twin Turrets Inn, and the
  Boyertown Area Historical Society. The tour begins at the Boyertown 
 Area Historical Society, 43 South Chestnut Street, where maps of the 
 tour are to be provided. Trolleys and Buses run throughout the evening
  affording patrons a ride and a stop at every location. Share the Joy
  of the Holidays, Boyertown Area Multi-Service will be hosting their a
 nnual Festival of Trees (a stop of the House Tour Trolley) starting on
  the 1st Friday of December. This event is a way for local businesses,
  service clubs or individuals to help local families who need support 
 this holiday season.\n\nFor more information visit https://northeastwh
 eelsevents.com/events/boyertown-holiday-open-house-tour
DTSTART:20141205T200000Z
DTEND:20141206T020000Z
CATEGORIES:holiday
LOCATION:Boyertown Museum of Historic Vehicles
WEBSITE:http://www.boyertownmuseum.org
URL:http://www.boyertownmuseum.org
CONTACT:610-367-2090
ORGANIZER:Building a Better Boyertown
ATTACH;FMTTYPE="image/jpeg":
ATTENDEE;ROLE=REQ-PARTICIPANT;PARTSTAT=ACCEPTED;RSVP=TRUE;CN="Deborah 
 JH Bertolet":https://northeastwheelsevents.com/profile/DeborahJHBertol
 et
END:VEVENT
END:VCALENDAR
