BEGIN:VCALENDAR
PRODID:NingEventWidget-v1
VERSION:2.0
METHOD:PUBLISH
BEGIN:VEVENT
UID:5167423:Event:60800
DTSTAMP:20260423T185259Z
SUMMARY:Boyertown's Chilln' on Main
DESCRIPTION:Join Building a Better Boyertown for Santa’s arrival for
  Chillin’ on Main. (Philadelphia Avenue will be closed from Reading 
 Avenue to Chestnut Street 10am-3pm). Parking will be available in the 
 Inner Core Lot, along the streets, and in the lots of National Penn Ba
 nk, Good Shepherd and St. John’s Church and The Boyertown Museum of 
 Historic Vehicles. There will be face painting, a Santa’s workshop, 
 interactive activities, entertainment, story time, and more. Come out 
 and join the fun! (Minimal fee for some activities)\n\nFor more inform
 ation visit https://northeastwheelsevents.com/events/boyertown-s-chill
 n-on-main
DTSTART:20141206T160000Z
DTEND:20141206T190000Z
CATEGORIES:holiday
LOCATION:Main Street, Boyertown
WEBSITE:http://www.boyertownmuseum.org
URL:http://www.boyertownmuseum.org
CONTACT:610-367-2090
ORGANIZER:Building a Better Boyertown
ATTACH;FMTTYPE="image/jpeg":
ATTENDEE;ROLE=REQ-PARTICIPANT;PARTSTAT=ACCEPTED;RSVP=TRUE;CN="Deborah 
 JH Bertolet":https://northeastwheelsevents.com/profile/DeborahJHBertol
 et
END:VEVENT
END:VCALENDAR
