BEGIN:VCALENDAR
PRODID:NingEventWidget-v1
VERSION:2.0
METHOD:PUBLISH
BEGIN:VEVENT
UID:5167423:Event:139768
DTSTAMP:20260422T214036Z
SUMMARY:Branches, Brawn and Beauty Car Show
DESCRIPTION:This is the 42nd year for this car show, auction, and chic
 ken BBQ used to help support the residents of this retirement communit
 y who can no longer afford to pay for their care.  The car show regis
 tration begins at 7:30 am until 9:00 am.  Cost is $10.00 (pre-registr
 ation) and $15.00 for day of event.  August 24 is last day of pre-reg
 istration.   No rain date and no return of preregistration.   Trop
 hies will be given to 1st and 2nd place in each of the following four 
 categories: antique, classic, modified, and muscle cars.  A trophy wi
 ll also be given for \"Best of Show\". All judging is done by register
 ed car show owners.  Door prizes will be generously given out.  Dash
  plaques are available for the first 75 pre-registered cars. Plenty of
  room to park trailers.  All cars must have a fire extinguisher on bo
 ard.  No alcohol, no motorcycles.  Event is presented by the Living 
 Branches Classic Car Club.\n\nFor more information visit https://north
 eastwheelsevents.com/events/brancches-brawn-and-beauty-car-show
DTSTART:20170826T113000Z
DTEND:20170826T190000Z
CATEGORIES:car, show, fundraiser
LOCATION:Souderton Mennonite Homes
WEBSITE:
URL:
CONTACT:2153684438
ORGANIZER:Deb Bell
ATTACH;FMTTYPE="image/jpeg":
ATTENDEE;ROLE=REQ-PARTICIPANT;PARTSTAT=ACCEPTED;RSVP=TRUE;CN="Ray Hurs
 t":https://northeastwheelsevents.com/profile/RayHurst
END:VEVENT
END:VCALENDAR
