BEGIN:VCALENDAR
PRODID:NingEventWidget-v1
VERSION:2.0
METHOD:PUBLISH
BEGIN:VEVENT
UID:5167423:Event:174621
DTSTAMP:20260425T153917Z
SUMMARY:Brandywine Region AACA Swap Meet
DESCRIPTION:Swap Meet   rain or shine  \n\nlocated near intersect
 ion of Rt 41 and Newark Rd between Hockessin DE and Avondale PA\n\nven
 dor pre-registration required\n\nFood truck on site\n\nFor more inform
 ation visit https://northeastwheelsevents.com/events/brandywine-region
 -aaca
DTSTART:20180414T120000Z
DTEND:20180414T190000Z
CATEGORIES:swap, meet
LOCATION:New Garden Township Building
WEBSITE:http://www.newgarden.org/   township map
URL:http://www.newgarden.org/   township map
CONTACT:410-392-2294
ORGANIZER;CN="Tom Grieco":https://northeastwheelsevents.com/profile/To
 mGrieco
ATTACH;FMTTYPE="image/jpeg":
ATTENDEE;ROLE=REQ-PARTICIPANT;PARTSTAT=ACCEPTED;RSVP=TRUE;CN="Tom Grie
 co":https://northeastwheelsevents.com/profile/TomGrieco
END:VEVENT
END:VCALENDAR
