BEGIN:VCALENDAR
PRODID:NingEventWidget-v1
VERSION:2.0
METHOD:PUBLISH
BEGIN:VEVENT
UID:5167423:Event:98247
DTSTAMP:20260425T153605Z
SUMMARY:Brass Club Speakeasy
DESCRIPTION:The Roaring Twenties comes to the Seal Cove Auto Museum! T
 here will be 12-piece swing band, a specialty cocktail created just fo
 r this event, prohibition era beers, blackjack tables, and more. It’
 s sure to be the cat’s pajamas!\n\nFor more information visit https:
 //northeastwheelsevents.com/events/brass-club-speakeasy
DTSTART:20160207T000000Z
DTEND:20160207T030000Z
CATEGORIES:entertainment
LOCATION:Seal Cove Auto Museum
WEBSITE:http://www.sealcoveautomuseum.org
URL:http://www.sealcoveautomuseum.org
CONTACT:207-244-9242
ORGANIZER:
ATTACH;FMTTYPE="image/jpeg":http://storage.ning.com/topology/rest/1.0/
 file/get/2284076653?profile=original
ATTENDEE;ROLE=REQ-PARTICIPANT;PARTSTAT=ACCEPTED;RSVP=TRUE;CN="Hope Row
 an":https://northeastwheelsevents.com/profile/HopeRowan
END:VEVENT
END:VCALENDAR
