BEGIN:VCALENDAR
PRODID:NingEventWidget-v1
VERSION:2.0
METHOD:PUBLISH
BEGIN:VEVENT
UID:5167423:Event:335153
DTSTAMP:20260422T133215Z
SUMMARY:Briar Creek Police and Summerhill Fire Co.'s 7th Annual Trunk 
 or Treat
DESCRIPTION:Come out for our 7th Annual Trunk or Treat. There will be 
 free hot dogs, face painting and of course lots of candy! Cruise in yo
 ur classic car, truck or bike. \n\nFor more information visit https:/
 /northeastwheelsevents.com/events/briar-creek-police-and-summerhill-fi
 re-co-s-7th-annual-trunk-or-t
DTSTART:20241023T213000Z
DTEND:20241023T233000Z
CATEGORIES:trunkortreat, cruise-in
LOCATION:Summerhill Fire Company
WEBSITE:https://allevents.in/berwick/briar-creek-police-and-summerhill
 -fire-cos-7th-annual-trunk-or-treat/200026980446110
URL:https://allevents.in/berwick/briar-creek-police-and-summerhill-fir
 e-cos-7th-annual-trunk-or-treat/200026980446110
CONTACT:570-752-5390
ORGANIZER:Summerhill Fire Company
ATTACH;FMTTYPE="image/jpeg":https://storage.ning.com/topology/rest/1.0
 /file/get/13015706254?profile=original
ATTENDEE;ROLE=REQ-PARTICIPANT;PARTSTAT=ACCEPTED;RSVP=TRUE;CN="William 
 Bruce":https://northeastwheelsevents.com/profile/WilliamBruce
END:VEVENT
END:VCALENDAR
