BEGIN:VCALENDAR
PRODID:NingEventWidget-v1
VERSION:2.0
METHOD:PUBLISH
BEGIN:VEVENT
UID:5167423:Event:1099
DTSTAMP:20260423T020232Z
SUMMARY:Brickels Racing Collectibles VetteFest 2010  Leesport, Pennsyl
 vania
DESCRIPTION:Show times are 11a.m.-3p.m. This show annually draws 100+ 
 Corvettes. For more information check out our link on www.vettecollect
 ibles.com or under the schedule of events tab at www.brickelsracing.co
 m.\n\nFor more information visit https://northeastwheelsevents.com/eve
 nts/brickels-racing-collectibles
DTSTART:20100911T140000Z
DTEND:20100911T190000Z
CATEGORIES:show
LOCATION:Rt 61
WEBSITE:http://www.vettecollectibles.com/
URL:http://www.vettecollectibles.com/
CONTACT:1-888-705-8717 ext 1 or 8217
ORGANIZER:Dan Wert or Scott Doerrman
ATTACH;FMTTYPE="image/jpeg":
ATTENDEE;ROLE=REQ-PARTICIPANT;PARTSTAT=ACCEPTED;RSVP=TRUE;CN="Richard 
 Scott":https://northeastwheelsevents.com/profile/RichardScott
END:VEVENT
END:VCALENDAR
