BEGIN:VCALENDAR
PRODID:NingEventWidget-v1
VERSION:2.0
METHOD:PUBLISH
BEGIN:VEVENT
UID:5167423:Event:65250
DTSTAMP:20260422T082338Z
SUMMARY:British Invade Gettysburg
DESCRIPTION:British car and motorcycle show. Held on the \"main\" str
 eet of the Gettysburg Outlet Village, Gettysburg. PA. Proceeds benefi
 t the Central Pennsylvania Food Bank. This is a non-judged show - just
  an informal gathering of close to 200 British vehicles. Great for the
  co-drivers - OUTLET SHOPPING!\n\nFor more information visit https://n
 ortheastwheelsevents.com/events/british-invade-gettysburg-2
DTSTART:20150712T130000Z
DTEND:20150712T170000Z
CATEGORIES:"british car,and motorcycle show"
LOCATION:Gettysburg Outlet Shoppes.
WEBSITE:http://www.lancomgclub.com/big.htm
URL:http://www.lancomgclub.com/big.htm
CONTACT:717-259-6324
ORGANIZER:Bob Arlotto
ATTACH;FMTTYPE="image/jpeg":http://storage.ning.com/topology/rest/1.0/
 file/get/2284055068?profile=original
ATTENDEE;ROLE=REQ-PARTICIPANT;PARTSTAT=ACCEPTED;RSVP=TRUE;CN="Dennis B
 levins":https://northeastwheelsevents.com/profile/DennisBlevins
END:VEVENT
END:VCALENDAR
