BEGIN:VCALENDAR
PRODID:NingEventWidget-v1
VERSION:2.0
METHOD:PUBLISH
BEGIN:VEVENT
UID:5167423:Event:102569
DTSTAMP:20260425T150936Z
SUMMARY:British Motorcar Gathering
DESCRIPTION:More than 200 vintage British sports cars will gather at A
 lfred J. Fritchman Reservoir Park, just south of Bethlehem, Pa. (Lehig
 h Valley), for this popular-vote show hosted by the Keystone Region MG
  Club. Registrants will cast votes to choose the top three examples of
  each class and model of car, with more than 50 awards to be made. The
 re will also be a \"Best of Show\" award. All makes of British cars an
 d motorcycles, old and new, are welcome. Registration is $10 by May 31
 , and $15 thereafter and at the gate. Field opens at 9 a.m., with judg
 ing until 12:30 p.m. Food and drink available in a large picnic pavili
 on, with children's events and music all day. Rain or shine. See webs
 ite for registration, directions, more information. \n\nFor more info
 rmation visit https://northeastwheelsevents.com/events/british-motorca
 r-gathering
DTSTART:20160612T130000Z
DTEND:20160612T190000Z
CATEGORIES:british, car, show
LOCATION:Alfred J. Fritchman Reservoir Park
WEBSITE:https://www.google.com/maps/d/viewer?ll=40.58241%2C-75.327415&
 spn=0.058667%2C0.052357&hl=en&msa=0&z=14&ie=UTF8&mid=zgu7kjD8PYMc.kXWE
 gdUEttBQ
URL:https://www.google.com/maps/d/viewer?ll=40.58241%2C-75.327415&spn=
 0.058667%2C0.052357&hl=en&msa=0&z=14&ie=UTF8&mid=zgu7kjD8PYMc.kXWEgdUE
 ttBQ
CONTACT:610-865-3419
ORGANIZER:Keystone Region MG Club
ATTACH;FMTTYPE="image/jpeg":http://storage.ning.com/topology/rest/1.0/
 file/get/2284081178?profile=original
ATTENDEE;ROLE=REQ-PARTICIPANT;PARTSTAT=ACCEPTED;RSVP=TRUE;CN="Kim de B
 ourbon":https://northeastwheelsevents.com/profile/KimdeBourbon941
END:VEVENT
END:VCALENDAR
