BEGIN:VCALENDAR
PRODID:NingEventWidget-v1
VERSION:2.0
METHOD:PUBLISH
BEGIN:VEVENT
UID:5167423:Event:45796
DTSTAMP:20260424T105707Z
SUMMARY:Brooklyn Automotive High School Spring Custom & Classic Car Sh
 ow
DESCRIPTION:The Spring Custom and Classic Car Show will be bigger than
  ever this year!  Join us June 15th From 9:30-3:30 in our rear lot of
 f of Nassau and N. 15th.  This year we add street space, a lawn area,
  food, more give aways, and more show categories which means more trop
 hies to give out! Come early to get a good spot, parking is at the dis
 cretion of the show staff but we will work to accommodate requests to 
 keep groups together to the best of our abilities.  This is a family 
 event so bring yours and enjoy a day at the Oldest Automotive School i
 n New York!  \n\nFor more information visit https://northeastwheelsev
 ents.com/events/brooklyn-automotive-high-school-spring-custom-classic-
 car-show
DTSTART:20140615T133000Z
DTEND:20140615T190000Z
CATEGORIES:car, show
LOCATION:Greenpoint, Brooklyn
WEBSITE:http://www.automotivehs.com/car_show.html
URL:http://www.automotivehs.com/car_show.html
CONTACT:
ORGANIZER:Brooklyn Automotive HS
ATTACH;FMTTYPE="image/jpeg":http://storage.ning.com/topology/rest/1.0/
 file/get/2284061425?profile=original
ATTENDEE;ROLE=REQ-PARTICIPANT;PARTSTAT=ACCEPTED;RSVP=TRUE;CN="George L
 aszlo":https://northeastwheelsevents.com/profile/GeorgeLaszlo
END:VEVENT
END:VCALENDAR
