BEGIN:VCALENDAR
PRODID:NingEventWidget-v1
VERSION:2.0
METHOD:PUBLISH
BEGIN:VEVENT
UID:5167423:Event:45211
DTSTAMP:20260423T025634Z
SUMMARY:BSA TROOP 145 4TH ANNUAL CARS,TRUCKS AND MOTORCYCLES SHOW
DESCRIPTION:\nBoy Scout Troop 145, Clark\n4th Annual Cars, Trucks and 
 Motorcycles Show\nVENDORS\nFOOD\nDRINKS\nJUNE 7, 2014\n(Rain Date: 6/8
 /14)\nA.L.J. HIGH SCHOOL\n365 WESTFIELD AVE, CLARK\nMUSIC BY D.J. HOT 
 ROD MIKE!\nVendors\nCost: $25.00 per non-food vendor spot\nNo electric
 ity hook-up\nVehicles\nClasses will be posted on the day of the show.\
 nThere will be three trophies for each class.\nEntry Fee\nEarly Birds:
  $15.00/vehicle until May 23, 2014\nRegular: $18.00 after 5/23/14 and 
 the day of the show /vehicle.\nTime\nRegistration: 9:30am-1:00pm\nJudg
 ing: Begins at 1:00pm\nPresentation of Awards: 4:30pm\nDASH PLAQUES TO
  THE FIRST 100 ENTRIES!\nMail Payment To:\nBSA Troop 145 - c/o Jan Gus
 kind\n14 Lincoln Blvd., 2nd Fl. – Clark, NJ 07066\n* Checks payable 
 to BSA Troop 145\nDownload registration forms: www.mafavors.com\nUnder
  important links BSA Troop 145 Link\n\nNO REFUNDS Advance registration
  is recommended to avoid any wait/lines though on-site\nregistration w
 ill be available the day of the event.\n**NO REFUNDS**\nCUSTOM CARS, T
 RUCKS, AND\nMOTORCYCLES OF ANY YEAR ARE\nALL WELCOME, SO COME OUT AND\
 nENJOY THE FUN!\nQUESTIONS OR MORE INFORMATION:\n848-250-6808\nMAIL CH
 ECKS TO:\nBSA Troop 145 c/o\nJan Guskind\n14 Lincoln Blvd., 2nd Fl.\nC
 lark, NJ 07066\n\nChecks made payable to BSA Troop 145\n\n\n\n\n\nFor 
 more information visit https://northeastwheelsevents.com/events/bsa-tr
 oop-145-4th-annual-cars-trucks-and-motorcycles-show
DTSTART:20140607T040000Z
DTEND:20140608T035900Z
CATEGORIES:car, show
LOCATION:A.L.J. HIGH SCHOOL
WEBSITE:http://MAFAVORS.COM
URL:http://MAFAVORS.COM
CONTACT:848-250-6808
ORGANIZER;CN="Jan Guskind":https://northeastwheelsevents.com/profile/J
 anGuskind
ATTACH;FMTTYPE="image/jpeg":
ATTENDEE;ROLE=REQ-PARTICIPANT;PARTSTAT=ACCEPTED;RSVP=TRUE;CN="Jan Gusk
 ind":https://northeastwheelsevents.com/profile/JanGuskind
END:VEVENT
END:VCALENDAR
