BEGIN:VCALENDAR
PRODID:NingEventWidget-v1
VERSION:2.0
METHOD:PUBLISH
BEGIN:VEVENT
UID:5167423:Event:231905
DTSTAMP:20260421T224645Z
SUMMARY:Build Your Own Soda Bottle Race Car!
DESCRIPTION:oin us for a fun and educational afternoon designing and b
 uilding your own rocket car!\nThe event will begin with a quick introd
 uction to the museum, our theme, and the collection. Following the tou
 r, we will jump right into the design and construction of a compressed
  air powered soda bottle rocket car. Paint and other decorative materi
 al will be provided along with aerodynamic aids to make your car as fa
 st as possible. Racing will be conducted on a 65-foot drag strip race 
 track with electronic scoring to the thousandth of a second. Modificat
 ions can be built and tested on the track and in our scale model wind 
 tunnel for the ultimate experience. Each race car will be a take-home 
 keepsake.\nOpen to all students aged 10-16\n\nFor more information vis
 it https://northeastwheelsevents.com/events/build-your-own-soda-bottle
 -race-car
DTSTART:20190117T230000Z
DTEND:20190118T000000Z
CATEGORIES:kids, steam, education, race, car
LOCATION:The Simeone Museum
WEBSITE:https://www.eventbrite.com/e/build-your-own-soda-bottle-race-c
 ar-tickets-54601075286
URL:https://www.eventbrite.com/e/build-your-own-soda-bottle-race-car-t
 ickets-54601075286
CONTACT:215-365-7233
ORGANIZER;CN="The Simeone Museum":https://northeastwheelsevents.com/pr
 ofile/TheSimeoneMuseum
ATTACH;FMTTYPE="image/jpeg":https://storage.ning.com/topology/rest/1.0
 /file/get/789764152?profile=original
ATTENDEE;ROLE=REQ-PARTICIPANT;PARTSTAT=ACCEPTED;RSVP=TRUE;CN="The Sime
 one Museum":https://northeastwheelsevents.com/profile/TheSimeoneMuseum
END:VEVENT
END:VCALENDAR
