BEGIN:VCALENDAR
PRODID:NingEventWidget-v1
VERSION:2.0
METHOD:PUBLISH
BEGIN:VEVENT
UID:5167423:Event:332405
DTSTAMP:20260422T143945Z
SUMMARY:Butternut Hill Car Show and Craft Fair
DESCRIPTION:Butternut Hill Car Show and Craft Fair\r\nCar show and cra
 ft fair at 10 a.m. Sept. 29 at Butternut Hill Campground in Bouckville
  on historic Route 20 in Central New York. Part of proceeds to benefit
  the Haven at Skanda animal rescue in Cazenovia, NY. Vendors wanted. T
 rophies will be awarded to winning cars. Car owners register the day o
 f the show. Vendor space fees start at $25. Car registration fee is $1
 5. Vendors call 315-228-8598. Car owners text Bill at: 518-369-8866.\r
 \nCraft fair\r\nCraft fair and car show at Butternut Hill RV Campgroun
 d, 6893 Route 20, Bouckville, NY. Craft fair is Sept. 28 and 29 from 9
  a.m. to 6 p.m. Car show is Sept. 29 at 10 a.m. Vendors and car enthus
 iasts wanted. Vendors call (315) 228-8598. Car enthusiasts text Bill a
 t (518) 369-8866. Vendor spaces start at $25. Camping is available. Mo
 re details at www.butternuthill.net\r\n\n\nFor more information visit 
 https://northeastwheelsevents.com/events/butternut-hill-car-show-and-c
 raft-fair
DTSTART:20240929T140000Z
DTEND:20240929T180000Z
CATEGORIES:carshow, benefit, craftfair
LOCATION:Butternut Hill RV Campground
WEBSITE:https://www.facebook.com/events/6893-route-20-bouckville-ny-un
 ited-states-new-york-13310/butternut-hill-car-show-and-craft-fair/1383
 604595629550/
URL:https://www.facebook.com/events/6893-route-20-bouckville-ny-united
 -states-new-york-13310/butternut-hill-car-show-and-craft-fair/13836045
 95629550/
CONTACT:518-369-8866
ORGANIZER:Bill
ATTACH;FMTTYPE="image/jpeg":https://storage.ning.com/topology/rest/1.0
 /file/get/12797806678?profile=original
ATTENDEE;ROLE=REQ-PARTICIPANT;PARTSTAT=ACCEPTED;RSVP=TRUE;CN="William 
 Bruce":https://northeastwheelsevents.com/profile/WilliamBruce
END:VEVENT
END:VCALENDAR
