BEGIN:VCALENDAR
PRODID:NingEventWidget-v1
VERSION:2.0
METHOD:PUBLISH
BEGIN:VEVENT
UID:5167423:Event:62543
DTSTAMP:20260422T194234Z
SUMMARY:Buy ONE get ONE Admission FREE
DESCRIPTION:Buy ONE get ONE Admission FREE at AMERICA ON WHEELS MUSEUM
 \n\nFOR MORE INFO PLEASE GO TO: http://americaonwheels.org/\n\nFor mo
 re information visit https://northeastwheelsevents.com/events/buy-one-
 get-one-admission-free
DTSTART:20141227T050000Z
DTEND:20141228T045900Z
CATEGORIES:holiday, exhibit, events, family, kids, fun, trains, museum
LOCATION:America On Wheels Museum
WEBSITE:http://americaonwheels.org/
URL:http://americaonwheels.org/
CONTACT:610-432-4200
ORGANIZER;CN="America On Wheels Museum":https://northeastwheelsevents.
 com/profile/americaonwheels
ATTACH;FMTTYPE="image/jpeg":
ATTENDEE;ROLE=REQ-PARTICIPANT;PARTSTAT=ACCEPTED;RSVP=TRUE;CN="America 
 On Wheels Museum":https://northeastwheelsevents.com/profile/americaonw
 heels
END:VEVENT
END:VCALENDAR
