BEGIN:VCALENDAR
PRODID:NingEventWidget-v1
VERSION:2.0
METHOD:PUBLISH
BEGIN:VEVENT
UID:5167423:Event:311011
DTSTAMP:20260422T034215Z
SUMMARY:By The Moonlite Car Show
DESCRIPTION:By the Moonlite Car Show Pre-Registered $20 / Day of show 
 $25 Registration starts at 10AM - Show from 12PM - 4PM Food - Music -
  Trophies - Top 25 Awards\n All show cars MUST enter at Blooming Glen 
 Road\n ALL MAKES AND MODELS ARE WELCOME\n\nFor Facebook updates: http
 s://fb.me/e/3ogX4OzBR\n All inquiries and questions please direct them
  to goodtimemotorvators@yahoo.com\n\nFor more information visit https:
 //northeastwheelsevents.com/events/by-the-moonlite-car-show-3
DTSTART:20230730T160000Z
DTEND:20230730T200000Z
CATEGORIES:car, show, benefit
LOCATION:Pennridge High School Parking Lot
WEBSITE:http://www.goodtimemotorvators.com
URL:http://www.goodtimemotorvators.com
CONTACT:2673723422
ORGANIZER:Good Time Motorvators Car Club
ATTACH;FMTTYPE="image/jpeg":
ATTENDEE;ROLE=REQ-PARTICIPANT;PARTSTAT=ACCEPTED;RSVP=TRUE;CN="Colleen 
 T. Williams":https://northeastwheelsevents.com/profile/ColleenTWilliam
 s
END:VEVENT
END:VCALENDAR
