BEGIN:VCALENDAR
PRODID:NingEventWidget-v1
VERSION:2.0
METHOD:PUBLISH
BEGIN:VEVENT
UID:5167423:Event:243837
DTSTAMP:20260419T141541Z
SUMMARY:By the Moonlite Car Show
DESCRIPTION:Come join the Good Time Motorvators and Pennridge Communit
 y Center for our 2nd Annual \"by the Moonlite\" Car Show on Saturday, 
 July 27, 2019.  $15 Pre-Registration / $20 Day of Show FOOD / MUSIC / 
 DASH PLAQUES / TROPHIES  Location - Pennridge High School Parking Lot 
 between the high school and North (1228 North 5th Street, Perkasie, PA
 ) NOTE: Show cars are to enter at Blooming Glen Road  Registration sta
 rts at 3PM Show is from 5PM - 9PM\n\nFor more information visit https:
 //northeastwheelsevents.com/events/by-the-moonlite-car-show
DTSTART:20190727T190000Z
DTEND:20190728T010000Z
CATEGORIES:car, show
LOCATION:Pennridge High School
WEBSITE:https://www.facebook.com/events/538469546559449/
URL:https://www.facebook.com/events/538469546559449/
CONTACT:4845760504
ORGANIZER:Dennis Williams
ATTACH;FMTTYPE="image/jpeg":https://storage.ning.com/topology/rest/1.0
 /file/get/2227841917?profile=original
ATTENDEE;ROLE=REQ-PARTICIPANT;PARTSTAT=ACCEPTED;RSVP=TRUE;CN="Colleen 
 Williams":https://northeastwheelsevents.com/profile/ColleenWilliams
END:VEVENT
END:VCALENDAR
