BEGIN:VCALENDAR
PRODID:NingEventWidget-v1
VERSION:2.0
METHOD:PUBLISH
BEGIN:VEVENT
UID:5167423:Event:334543
DTSTAMP:20260422T192419Z
SUMMARY:C.R.E.A.M CAR MEET
DESCRIPTION:We have to be respectful to the business around the area. 
 These CAR meets will be once a month for this season.We have these sim
 ple rules to follow.1. NO BURNOUT2. NO LOUD MUSIC SO KEEP YOUR SPEAKER
 S IN YOUR CAR.3.NO 2 STEPPING4. NO REVVING5. NO SPEEDING IN THE PARKIN
 G LOT.6. CLEAN UP AFTER YOUR SELF.IF YOU CAN'T FOLLOW THESE RULES, YOU
  WILL BE ASK TO LEAVE SO LEAVE THE BULLSHIT AT HOME.DON'T MESS IT UP F
 OR EVERYONE!\n\nFor more information visit https://northeastwheelseven
 ts.com/events/c-r-e-a-m-car-meet
DTSTART:20240928T213000Z
DTEND:20240929T000000Z
CATEGORIES:cruisein
LOCATION:Advance Auto Parts
WEBSITE:https://allevents.in/warwick/cream-car-meet/200027154663731
URL:https://allevents.in/warwick/cream-car-meet/200027154663731
CONTACT:
ORGANIZER:C.R.E.A.M.
ATTACH;FMTTYPE="image/jpeg":https://storage.ning.com/topology/rest/1.0
 /file/get/12970308093?profile=original
ATTENDEE;ROLE=REQ-PARTICIPANT;PARTSTAT=ACCEPTED;RSVP=TRUE;CN="William 
 Bruce":https://northeastwheelsevents.com/profile/WilliamBruce
END:VEVENT
END:VCALENDAR
