BEGIN:VCALENDAR
PRODID:NingEventWidget-v1
VERSION:2.0
METHOD:PUBLISH
BEGIN:VEVENT
UID:5167423:Event:154526
DTSTAMP:20260423T065905Z
SUMMARY:Cadillac & LaSalle Club Car Show
DESCRIPTION:The Caddies are coming back to Hershey!All makes and model
 s of antique cars are welcome for the 11th Annual Cadillac and LeSalle
  Club Meet held on the AACA Museum grounds.Food and beverages will be 
 available for purchase.The car show is open to the public to enjoy wit
 hout a fee. The AACA Museum is available for the regular admission pri
 ce of $12 for Adults, $11 for Seniors and $9 for Juniors.\n\nFor more 
 information visit https://northeastwheelsevents.com/events/cadillac-la
 salle-club-car-show
DTSTART:20170708T150000Z
DTEND:20170708T200000Z
CATEGORIES:car, show
LOCATION:AACA Museum
WEBSITE:http://www.aacamuseum.org/cadillac-lasalle-club-inter-regional
 -meet/
URL:http://www.aacamuseum.org/cadillac-lasalle-club-inter-regional-mee
 t/
CONTACT:7175667100
ORGANIZER;CN="AACA Museum":https://northeastwheelsevents.com/profile/A
 ACAMuseum941
ATTACH;FMTTYPE="image/jpeg":http://storage.ning.com/topology/rest/1.0/
 file/get/2284087632?profile=original
ATTENDEE;ROLE=REQ-PARTICIPANT;PARTSTAT=ACCEPTED;RSVP=TRUE;CN="AACA Mus
 eum":https://northeastwheelsevents.com/profile/AACAMuseum941
END:VEVENT
END:VCALENDAR
