BEGIN:VCALENDAR
PRODID:NingEventWidget-v1
VERSION:2.0
METHOD:PUBLISH
BEGIN:VEVENT
UID:5167423:Event:47454
DTSTAMP:20260425T172903Z
SUMMARY:Cadillac & LaSalle Inter-Regional Club Car Show
DESCRIPTION:Cadillac & LaSalle Inter-Regional Club Car Show\nCaddys ar
 e coming to the AACA Museum in Hershey, PA!\nThe 8th Annual Cadillac &
  LaSalle Club Show  Saturday, June 28th from 9AM – 2PM\n\n1960 Cadi
 llac Coupe De Ville\nCo-sponsored by Central Penn Region & Upper Susqu
 ehanna Region of the Cadillac & LaSalle Clubs.\nAll makes of Antique C
 ars are welcome.   The event will have peer judging with trophies aw
 arded in all classes courtesy of Kelly Cadillac.\nRegistration is $15 
 per vehicle through June 21st..   Registration includes one complime
 ntary admission ticket to the AACA Museum.\nThe car show is open to th
 e public to enjoy without a fee.   The AACA Museum is available for 
 the regular admission price of $10 for Adults, $9 for Seniors and $7 f
 or Juniors.\nFor information about registration or general question ab
 out this event visit www.aacamuseum.org or contact Art Archambeault by
  email artarchambeault49@gmail.com or phone 717-557-6974\n \n\nFor mo
 re information visit https://northeastwheelsevents.com/events/cadillac
 -lasalle-inter-regional-club-car-show
DTSTART:20140628T130000Z
DTEND:20140628T180000Z
CATEGORIES:car, show
LOCATION:AACA Museum
WEBSITE:http://www.aacamuseum.org
URL:http://www.aacamuseum.org
CONTACT:717-557-6974
ORGANIZER:Co-Sponsored by Central Penn Region and Upper Susquehanna Re
 gion  of the Cadillac & LaSalle Club
ATTACH;FMTTYPE="image/jpeg":http://storage.ning.com/topology/rest/1.0/
 file/get/2284063968?profile=original
ATTENDEE;ROLE=REQ-PARTICIPANT;PARTSTAT=ACCEPTED;RSVP=TRUE;CN="AACA Mus
 eum":https://northeastwheelsevents.com/profile/AACAMuseum941
END:VEVENT
END:VCALENDAR
