BEGIN:VCALENDAR
PRODID:NingEventWidget-v1
VERSION:2.0
METHOD:PUBLISH
BEGIN:VEVENT
UID:5167423:Event:246605
DTSTAMP:20260420T200732Z
SUMMARY:Caffeine N Gasoline
DESCRIPTION:JD's Classic And Muscle Car Sales in conjunction with JD's
  Auto Restoration and Performance Center are now hosting a Cars N Coff
 ee event that we refer to as \"Caffeine N Gasoline\" every first Satur
 day of the month.\n\nStop in with your cool rides or your daily driver
 s and take a tour of our facility and enjoy a cup of coffee and a donu
 t! \n\n\n\nFor more information visit https://northeastwheelsevents.c
 om/events/caffeine-n-gasoline
DTSTART:20190601T123000Z
DTEND:20190601T160000Z
CATEGORIES:caffeine, n, gasoline
LOCATION:Huntingdon Valley, PA
WEBSITE:http://www.jdsclassicandmusclecars.com
URL:http://www.jdsclassicandmusclecars.com
CONTACT:2159389265
ORGANIZER;CN="wayne woodruff":https://northeastwheelsevents.com/profil
 e/waynewoodruff81
ATTACH;FMTTYPE="image/jpeg":https://storage.ning.com/topology/rest/1.0
 /file/get/2740021407?profile=original
ATTENDEE;ROLE=REQ-PARTICIPANT;PARTSTAT=ACCEPTED;RSVP=TRUE;CN="wayne wo
 odruff":https://northeastwheelsevents.com/profile/waynewoodruff81
END:VEVENT
END:VCALENDAR
