BEGIN:VCALENDAR
PRODID:NingEventWidget-v1
VERSION:2.0
METHOD:PUBLISH
BEGIN:VEVENT
UID:5167423:Event:75530
DTSTAMP:20260421T224511Z
SUMMARY:CALIFORNIA - Presented by Auctions America
DESCRIPTION:Auctions America is delighted to announce the return of it
 s annual California sale, July 17 – 18. Moving to new dates and an e
 xciting new venue in 2015 – Santa Monica’s historic Barker Hangar 
 – the multi-day auction is set to build on the company’s strong sa
 les run in Southern California. Since 2013, Auctions America has enjoy
 ed a successful entrance into the notoriously difficult Southern Calif
 ornia collector car auction market, posting record results at each of 
 its events to date. The upcoming auction will lift the gavel on a hand
 picked collection of approximately 300 quality vehicles. As in past ye
 ars, the sale promises an eclectic mix of automobiles representative o
 f diverse Southern California tastes: European and American sports car
 s, prewar classics, hot rods and customs. For those unable to attend t
 he auction in person, Auctions America offers a broad range of remote 
 bidding options including Internet, absentee and telephone bidding, an
 d the auction will stream live online at auctionsamerica.com to provid
 e real-time coverage of the event. For further information and to view
  a frequently updated list of entries, visit auctionsamerica.com or ca
 ll toll free 888-990-3910 (or +1 310 842 3910 outside North America).\
 n \n\nFor more information visit https://northeastwheelsevents.com/ev
 ents/california-presented-by-auctions-america
DTSTART:20150717T143000Z
DTEND:20150718T220000Z
CATEGORIES:auction
LOCATION:Barker Hangar
WEBSITE:http://auctionsamerica.com
URL:http://auctionsamerica.com
CONTACT:
ORGANIZER;CN="Sadie Chapple":https://northeastwheelsevents.com/profile
 /SadieChapple
ATTACH;FMTTYPE="image/jpeg":http://storage.ning.com/topology/rest/1.0/
 file/get/2284067057?profile=original
ATTENDEE;ROLE=REQ-PARTICIPANT;PARTSTAT=ACCEPTED;RSVP=TRUE;CN="Sadie Ch
 apple":https://northeastwheelsevents.com/profile/SadieChapple
END:VEVENT
END:VCALENDAR
