BEGIN:VCALENDAR
PRODID:NingEventWidget-v1
VERSION:2.0
METHOD:PUBLISH
BEGIN:VEVENT
UID:5167423:Event:37658
DTSTAMP:20260424T185334Z
SUMMARY:Camaro Nationals
DESCRIPTION:Maryland Camaro Nationals the largest all Generation Camar
 o Show All Firebirds Welcome. We will be hosting a Tom Henry Racing Re
 union if you have a Tom Henry we hope to see you there. We have indoor
  and outdoor vendors.40 classes over 140 awards.1000 point BowTie and 
 5000point legend Concours Classes for early generation. Our Charity is
  Silence Of Mary Home\n\nFor more information visit https://northeastw
 heelsevents.com/events/camaro-nationals
DTSTART:20140620T120000Z
DTEND:20140621T120000Z
CATEGORIES:camaro, nationals
LOCATION:Fredrick Fair Grounds
WEBSITE:http://www.camaronationals.org
URL:http://www.camaronationals.org
CONTACT:610-921-3721
ORGANIZER:Bud Scolastico
ATTACH;FMTTYPE="image/jpeg":http://storage.ning.com/topology/rest/1.0/
 file/get/2284056461?profile=original
ATTENDEE;ROLE=REQ-PARTICIPANT;PARTSTAT=ACCEPTED;RSVP=TRUE;CN="catherin
 e Newman":https://northeastwheelsevents.com/profile/catherineNewman
END:VEVENT
END:VCALENDAR
