BEGIN:VCALENDAR
PRODID:NingEventWidget-v1
VERSION:2.0
METHOD:PUBLISH
BEGIN:VEVENT
UID:5167423:Event:334275
DTSTAMP:20260423T020403Z
SUMMARY:Canandaigua fall to the walls cruise
DESCRIPTION:It’s fall y’all and I’m hosting a fall cruise around
  canandaigua with a pit stop at the best plates place in the fingerlak
 es in Rushville fingerlakes plates.Sun. Oct. 13 2024 at 03:00 pm to 07
 :00 pm.This is a rain or shine event with no cancellation at all.All a
 re welcome whether you have a build or not doesn’t matter it’s all
  for fun and to meet new car enthusiasts.Share around let’s make it 
 big all I ask is to be respectful and not be an ass.\r\nhttps://www.fa
 cebook.com/canandaiguacarcrew about us. \n\nFor more information visi
 t https://northeastwheelsevents.com/events/canandaigua-fall-to-the-wal
 ls-cruise
DTSTART:20241013T190000Z
DTEND:20241013T230000Z
CATEGORIES:cruisein
LOCATION:800 South Main Street
WEBSITE:https://www.facebook.com/events/800-s-main-st-canandaigua-ny-1
 4424-2213-united-states-canandaigua-new-york/canandaigua-fall-to-the-w
 alls-cruise/913992603889598/
URL:https://www.facebook.com/events/800-s-main-st-canandaigua-ny-14424
 -2213-united-states-canandaigua-new-york/canandaigua-fall-to-the-walls
 -cruise/913992603889598/
CONTACT:
ORGANIZER:Canandaigua Car Crew
ATTACH;FMTTYPE="image/jpeg":https://storage.ning.com/topology/rest/1.0
 /file/get/12957951886?profile=original
ATTENDEE;ROLE=REQ-PARTICIPANT;PARTSTAT=ACCEPTED;RSVP=TRUE;CN="William 
 Bruce":https://northeastwheelsevents.com/profile/WilliamBruce
END:VEVENT
END:VCALENDAR
