BEGIN:VCALENDAR
PRODID:NingEventWidget-v1
VERSION:2.0
METHOD:PUBLISH
BEGIN:VEVENT
UID:5167423:Event:295747
DTSTAMP:20260422T200959Z
SUMMARY:The Last Hurrah Halloween Hullabaloo Auto AND Motorcycle Show 
 Hosted By The Middletown Lions Club
DESCRIPTION:RESCHEDULED TO NOVEMBER 6 DUE TO THE THREAT OF BAD WEATHER
  ON OCTOBER 30. The Middletown Lions Club is hosting The Last Hurrah H
 alloween Hullabaloo Auto & Motorcycle Show on Saturday, October 30 fro
 m 12 to 4 p.m. at Texas Roadhouse, 2105 Route 35 North, Holmdel, N.J. 
 The rain date is Saturday, November 6.\r\n     The show is a chari
 table event which benefits the club’s vision, hearing and health ini
 tiatives including free vision screenings for children throughout Monm
 outh County, free eye exams & eyeglasses for those with financial need
 , and the free hearing aid program. All years, makes, models and class
 es of autos and motorcycles are welcome. Live music will be provided b
 y Walter Cooper of Soundz Unlimited. This is a judged show with trophi
 es, including awards for the best Halloween themed car & motorcycle.\r
 \n     The entrance fee for cars and motorcycles is $20 in advance
  or $25 on the day of the event. Registration forms are available by c
 ontacting Show Organizer\r\nLori Anne Oliwa by email at laoliwa@yahoo.
 com or by calling her at 732-757-7443. While the event is free for spe
 ctators, goodwill donations are encouraged and will be applied directl
 y to charitable programs. Business sponsorships & vendor opportunities
  are also available. For information on the Middletown Lions Club, vis
 it www.mlions.org.\r\n\n\nFor more information visit https://northeast
 wheelsevents.com/events/cancelled-and-rescheduled-to-november-6-the-la
 st-hurrah-halloween
DTSTART:20211106T160000Z
DTEND:20211106T200000Z
CATEGORIES:charitable, auto, "&amp", motorcycle, show, to, benefit, mi
 ddletown, lions, club, vision, hearing, health, initiatives
LOCATION:Texas Roadhouse, 2105 Highway 35 North, Holmdel, NJ 07733
WEBSITE:http://www.mlions.org
URL:http://www.mlions.org
CONTACT:732-757-7443
ORGANIZER:Lori Anne Oliwa, Car Show Host
ATTACH;FMTTYPE="image/jpeg":
ATTENDEE;ROLE=REQ-PARTICIPANT;PARTSTAT=ACCEPTED;RSVP=TRUE;CN="Pamela H
 irschhorn":https://northeastwheelsevents.com/profile/PamelaHirschhorn
END:VEVENT
END:VCALENDAR
