BEGIN:VCALENDAR
PRODID:NingEventWidget-v1
VERSION:2.0
METHOD:PUBLISH
BEGIN:VEVENT
UID:5167423:Event:141354
DTSTAMP:20260419T083827Z
SUMMARY:Capitol City Cruiser Car show
DESCRIPTION:First Saturday of each month Starting in April-October.Tim
 e is from 4pm-7pm.Door Prizes,50/50 raffle. Music by Harry Loranzo,\n\
 nFor more information visit https://northeastwheelsevents.com/events/c
 apitol-city-cruiser-car-show
DTSTART:20170401T200000Z
DTEND:20170401T230000Z
CATEGORIES:cruise-in
LOCATION:Roadhouse
WEBSITE:
URL:
CONTACT:717-579-5440 or 717-805-1650
ORGANIZER:Capitol City Cruisers/Rod Murray/Charlie Roberts
ATTACH;FMTTYPE="image/jpeg":
END:VEVENT
END:VCALENDAR
