BEGIN:VCALENDAR
PRODID:NingEventWidget-v1
VERSION:2.0
METHOD:PUBLISH
BEGIN:VEVENT
UID:5167423:Event:232418
DTSTAMP:20260420T201626Z
SUMMARY:Capitol City Cruiser Cruise -In
DESCRIPTION:Held on  June 1st 2019.  Rain Date will be the following
  Saturday. Cafe is open we will have Door prizes and 50/50 drawing. FR
 EE REGISTRATION. Music by Harry Loranzo.   \"Like\" us on Facebook!\
 n\nFor more information visit https://northeastwheelsevents.com/events
 /capitol-city-cruiser-cruise-in-2
DTSTART:20190601T200000Z
DTEND:20190601T230000Z
CATEGORIES:cruise, in
LOCATION:Roadhouse Cafe
WEBSITE:
URL:
CONTACT:717-579-5440 or 717-805-1650
ORGANIZER:Rod Murray or Charlie Roberts
ATTACH;FMTTYPE="image/jpeg":
ATTENDEE;ROLE=REQ-PARTICIPANT;PARTSTAT=ACCEPTED;RSVP=TRUE;CN="Steven H
 ooper":https://northeastwheelsevents.com/profile/StevenHooper
END:VEVENT
END:VCALENDAR
