BEGIN:VCALENDAR
PRODID:NingEventWidget-v1
VERSION:2.0
METHOD:PUBLISH
BEGIN:VEVENT
UID:5167423:Event:174692
DTSTAMP:20260425T074439Z
SUMMARY:Capitol City Cruisers Monthly Show
DESCRIPTION:First Saturday of April, May,June,July,August,September,an
 d October. Rain date will be the Second Saturday of the month.Cafe is 
 open,free registration door prizes 50/50 raffle\n\nFor more informatio
 n visit https://northeastwheelsevents.com/events/capitol-city-cruisers
 -monthly-show
DTSTART:20180407T200000Z
DTEND:20180407T230000Z
CATEGORIES:monthly, show
LOCATION:Harrisburg,PA
WEBSITE:
URL:
CONTACT:7175795440 or 7178051650
ORGANIZER:Rod Murray or Charlie Roberts
ATTACH;FMTTYPE="image/jpeg":
ATTENDEE;ROLE=REQ-PARTICIPANT;PARTSTAT=ACCEPTED;RSVP=TRUE;CN="Steven H
 ooper":https://northeastwheelsevents.com/profile/StevenHooper
END:VEVENT
END:VCALENDAR
