BEGIN:VCALENDAR
PRODID:NingEventWidget-v1
VERSION:2.0
METHOD:PUBLISH
BEGIN:VEVENT
UID:5167423:Event:315128
DTSTAMP:20260421T105643Z
SUMMARY:Car-B-Que
DESCRIPTION:Car-B-Que is a classic car show and vendor event. Classic 
 cars are $10 for registration and admission is free for the public. We
  have moved it from the Greenbelt to the Fort LaPresentation site in O
 gdensburg. Vendors, music, food, activities for families. Fun for all!
 \n\nFor more information visit https://northeastwheelsevents.com/event
 s/car-b-que
DTSTART:20230603T140000Z
DTEND:20230603T200000Z
CATEGORIES:car, show
LOCATION:Fort LaPresentation site in Ogdensburg
WEBSITE:https://www.facebook.com/events/585650046433034
URL:https://www.facebook.com/events/585650046433034
CONTACT:
ORGANIZER:Ogdensburg Chamber
ATTACH;FMTTYPE="image/jpeg":
ATTENDEE;ROLE=REQ-PARTICIPANT;PARTSTAT=ACCEPTED;RSVP=TRUE;CN=CrazyJerr
 y:https://northeastwheelsevents.com/profile/CrazyJerry
END:VEVENT
END:VCALENDAR
