BEGIN:VCALENDAR
PRODID:NingEventWidget-v1
VERSION:2.0
METHOD:PUBLISH
BEGIN:VEVENT
UID:5167423:Event:315217
DTSTAMP:20260421T202616Z
SUMMARY:Car Cruise
DESCRIPTION:First Saturdays\nJune - September\n4 pm - 7 pm \nJuly 1st\
 nAugust 5th\nSeptember 2nd \nAll makes and models.\nCruisers and spect
 ators welcome.\nHeld rain or shine.\n\nFor more information visit http
 s://northeastwheelsevents.com/events/car-cruise-1
DTSTART:20230701T200000Z
DTEND:20230701T230000Z
CATEGORIES:car, cruise
LOCATION:Trinity Wesleyan Church
WEBSITE:https://trinitywes.org/
URL:https://trinitywes.org/
CONTACT:
ORGANIZER:Trinity Wesleyan Church
ATTACH;FMTTYPE="image/jpeg":https://storage.ning.com/topology/rest/1.0
 /file/get/11147340670?profile=original
ATTENDEE;ROLE=REQ-PARTICIPANT;PARTSTAT=ACCEPTED;RSVP=TRUE;CN="Natasha 
 Heckman":https://northeastwheelsevents.com/profile/NatashaHeckman
END:VEVENT
END:VCALENDAR
