BEGIN:VCALENDAR
PRODID:NingEventWidget-v1
VERSION:2.0
METHOD:PUBLISH
BEGIN:VEVENT
UID:5167423:Event:315117
DTSTAMP:20260421T202540Z
SUMMARY:Car Cruise
DESCRIPTION:First Saturdays\nJune - September\n4 pm - 7 pm \n\nAugust 
 5th\nSeptember 2nd \nAll makes and models.\nCruisers and spectators we
 lcome.\nHeld rain or shine.\n\nFor more information visit https://nort
 heastwheelsevents.com/events/car-cruise-2
DTSTART:20230805T200000Z
DTEND:20230805T230000Z
CATEGORIES:car, cruise
LOCATION:Trinity Wesleyan Church
WEBSITE:https://trinitywes.org/
URL:https://trinitywes.org/
CONTACT:
ORGANIZER:Trinity Wesleyan Church
ATTACH;FMTTYPE="image/jpeg":https://storage.ning.com/topology/rest/1.0
 /file/get/11147340670?profile=original
ATTENDEE;ROLE=REQ-PARTICIPANT;PARTSTAT=ACCEPTED;RSVP=TRUE;CN="Natasha 
 Heckman":https://northeastwheelsevents.com/profile/NatashaHeckman
END:VEVENT
END:VCALENDAR
