BEGIN:VCALENDAR
PRODID:NingEventWidget-v1
VERSION:2.0
METHOD:PUBLISH
BEGIN:VEVENT
UID:5167423:Event:173789
DTSTAMP:20260422T060337Z
SUMMARY:CAR SHOW AT LAWRENCE CHEVROLET
DESCRIPTION:\n\nFor more information visit https://northeastwheelseven
 ts.com/events/car-show-at-lawrence-chevrolet-1
DTSTART:20180615T210000Z
DTEND:20180616T000000Z
CATEGORIES:car, show
LOCATION:LAWRENCE CHEVROLET
WEBSITE:
URL:
CONTACT:DAVE @ 717-525-4583 OR STEVE @ 717-649-0104
ORGANIZER:TOYS OF TIME KRUZERS
ATTACH;FMTTYPE="image/jpeg":
ATTENDEE;ROLE=REQ-PARTICIPANT;PARTSTAT=ACCEPTED;RSVP=TRUE;CN="Jerry W 
 Holtry":https://northeastwheelsevents.com/profile/JerryWHoltry
END:VEVENT
END:VCALENDAR
