BEGIN:VCALENDAR
PRODID:NingEventWidget-v1
VERSION:2.0
METHOD:PUBLISH
BEGIN:VEVENT
UID:5167423:Event:144202
DTSTAMP:20260423T033354Z
SUMMARY:CAR SHOW AT LAWRENCE CHEVROLET
DESCRIPTION:\n\nFor more information visit https://northeastwheelseven
 ts.com/events/car-show-at-lawrence-chevrolet
DTSTART:20170609T210000Z
DTEND:20170610T000000Z
CATEGORIES:"cruise in with awards"
LOCATION:LAWRENCE CHEVROLET
WEBSITE:
URL:
CONTACT:717-525-4583 OR 717-649-0104
ORGANIZER:DAVE OR STEVE
ATTACH;FMTTYPE="image/jpeg":http://storage.ning.com/topology/rest/1.0/
 file/get/2284096308?profile=original
ATTENDEE;ROLE=REQ-PARTICIPANT;PARTSTAT=ACCEPTED;RSVP=TRUE;CN="Jerry W 
 Holtry":https://northeastwheelsevents.com/profile/JerryWHoltry
END:VEVENT
END:VCALENDAR
