BEGIN:VCALENDAR
PRODID:NingEventWidget-v1
VERSION:2.0
METHOD:PUBLISH
BEGIN:VEVENT
UID:5167423:Event:23089
DTSTAMP:20260423T152416Z
SUMMARY:Car Show for the Wounded Warrior Project
DESCRIPTION:\n\nFor more information visit https://northeastwheelseven
 ts.com/events/car-show-for-the-wounded-warrior-project
DTSTART:20130615T130000Z
DTEND:20130615T200000Z
CATEGORIES:car, show
LOCATION:Riverhead,LI
WEBSITE:http://www.limooseclassiccarclub.com/
URL:http://www.limooseclassiccarclub.com/
CONTACT:631 831-3547
ORGANIZER:Long Island Moose Classic Car Club
ATTACH;FMTTYPE="image/jpeg":http://storage.ning.com/topology/rest/1.0/
 file/get/2284051893?profile=original
ATTENDEE;ROLE=REQ-PARTICIPANT;PARTSTAT=ACCEPTED;RSVP=TRUE;CN="Pamela H
 irschhorn":https://northeastwheelsevents.com/profile/PamelaHirschhorn
END:VEVENT
END:VCALENDAR
