BEGIN:VCALENDAR
PRODID:NingEventWidget-v1
VERSION:2.0
METHOD:PUBLISH
BEGIN:VEVENT
UID:5167423:Event:348773
DTSTAMP:20260424T232350Z
SUMMARY:Car Show Long Island 2026 Fall Classic at TOBAY Beach
DESCRIPTION:\r\nWhether youre a proud car owner or you want to see the
  best rides on Long Island and the surrounding area, the Car Show Long
  Island TOBAY Classic is sure to please! Hundreds of classic, vintage,
  antique and muscle cars and trucks have made their way south to TOBAY
  Beach to be part of something special a fun and dynamic car show at t
 he beach. This Premier Car Show Experience has become an instant class
 ic and the favorite destination for car enthusiasts across Long Island
  and beyond!\r\nFREE SPECTATOR PARKING AT JONES BEACH FIELD 5. Free S
 pectator Admission: Enjoy the show for free, with food trucks and a li
 ve concert by Vinyl Revival Band.\r\n\r\n\r\nCost: $15 Advance Regist
 ration, $25 Day of Show Registration.\r\nTo Register: Click here for 
 more information or call Maura Kirby at 1-516-797-4121 or call Cyn
 thia Ade at 1-516-797-7904 or e-mail us at hmnmail@hemmings.com\r\nR
 AIN DATE: Sunday October 4. Gates Open to Show Cars at 8AM.\r\n\r\n\r\
 nSponsors: Eagle Chevrolet, Washville Car Wash, Whitey's Tire, Action
  Auto Wreckers, Signarama of Huntington, Zorns of Bethpage, News-12, W
 BAB, Extreme Auto Body, Xclusive Auto Works, Paul's Rods & Restos, Aut
 omat.\r\n\n\nFor more information visit https://northeastwheelsevents.
 com/events/car-show-long-island-2026-fall-classic-at-tobay-beach
DTSTART:20260927T150000Z
DTEND:20260927T200000Z
CATEGORIES:carshow
LOCATION:TOBAY Beach
WEBSITE:https://www.hemmings.com/events/detail?listing_id=66087#:~:tex
 t=Sponsor:%20Hemmings%20Motor%20News%20LTD,All%20Rights%20Reserved.
URL:https://www.hemmings.com/events/detail?listing_id=66087#:~:text=Sp
 onsor:%20Hemmings%20Motor%20News%20LTD,All%20Rights%20Reserved.
CONTACT:1-516-797-4121
ORGANIZER:Long Island Premier Car Show
ATTACH;FMTTYPE="image/jpeg":https://storage.ning.com/topology/rest/1.0
 /file/get/31116913884?profile=original
ATTENDEE;ROLE=REQ-PARTICIPANT;PARTSTAT=ACCEPTED;RSVP=TRUE;CN="William 
 Bruce":https://northeastwheelsevents.com/profile/WilliamBruce
END:VEVENT
END:VCALENDAR
