BEGIN:VCALENDAR
PRODID:NingEventWidget-v1
VERSION:2.0
METHOD:PUBLISH
BEGIN:VEVENT
UID:5167423:Event:335513
DTSTAMP:20260423T123332Z
SUMMARY:CAR, TRUCK, BIKE & JEEP SHOW (Trunk or Treat / Car Show / Car 
 Meet / Cruise INs)
DESCRIPTION:\r\nWESTFIELD NEIGHBORHOOD COUNCIL ANNUAL FUNDRAISER\r\n\r
 \nFun and safe Halloween Alternative!\r\n \r\nCAR TRUCK BIKE & JEEP S
 HOW\r\n\r\nTrunk or Treat / Car Show / Car Meet / Cruise INs Welcome!\
 r\n\r\n\r\nALL VEHICLES, MAKES & MODELS WELCOME\r\n\r\nSlingshots, Ryk
 ers, Muscles, Exotics, Classics, Customs, Imports & Etc!\r\n\r\n\r\nBe
 st Decorated Vehicle & Motorcycle Trophies\r\n\r\nSat. Oct. 26, 2024/ 
 Rain Date: Sun. Oct. 27th\r\n\r\n11 AM to 4 PM (Car Roll-in: 10 AM).\r
 \n\r\nFREE Family Fun: Food Fun & Music\r\n\r\nPAY AT THE EVENT:\r\n\r
 \n$20 Vehicle Reg. / Walk-Ins: FREE\r\n\r\n\r\nCAR SHOW REGISTRATION O
 R INFORMATION:\r\nGWIZ: 908-482-8132 or GWIZauto.NJ@gmail.com\r\n\r\nT
 ickets\r\nTickets for CAR, TRUCK, BIKE & JEEP SHOW (Trunk or Treat / C
 ar Show / Car Meet / Cruise INs) can be booked here on website! \r\n\
 n\nFor more information visit https://northeastwheelsevents.com/events
 /car-truck-bike-jeep-show-trunk-or-treat-car-show-car-meet-cruise-
DTSTART:20241026T150000Z
DTEND:20241026T200000Z
CATEGORIES:trunkortreat, cruise-in, charity
LOCATION:Westfield Neighborhood Council Council in Westfield, New Jers
 ey
WEBSITE:https://allevents.in/westfield/car-truck-bike-and-jeep-show-tr
 unk-or-treat-car-show-car-meet-cruise-ins/80005327098013
URL:https://allevents.in/westfield/car-truck-bike-and-jeep-show-trunk-
 or-treat-car-show-car-meet-cruise-ins/80005327098013
CONTACT:908-482-8132
ORGANIZER:GWIZ
ATTACH;FMTTYPE="image/jpeg":https://storage.ning.com/topology/rest/1.0
 /file/get/13028180488?profile=original
ATTENDEE;ROLE=REQ-PARTICIPANT;PARTSTAT=ACCEPTED;RSVP=TRUE;CN="William 
 Bruce":https://northeastwheelsevents.com/profile/WilliamBruce
END:VEVENT
END:VCALENDAR
