BEGIN:VCALENDAR
PRODID:NingEventWidget-v1
VERSION:2.0
METHOD:PUBLISH
BEGIN:VEVENT
UID:5167423:Event:64744
DTSTAMP:20260422T214054Z
SUMMARY:Carl Maratta Auto swap Meet and Car Corral
DESCRIPTION:Once again, its time to put aside the date, Sunday, May 17
 th for your opportunity to browse, search and find that hidden gem at 
 the Carl Maratta Auto Swap Meet and Car Corral. The event starts with 
 vendor sign in at 6:00AM at Rentschler Field, 615 Silver Lane, East Ha
 rtford, and goes to 3:00PM in the afternoon.  Rain or shine the show 
 goes on!\n\nYou’ll find an assortment of vehicles for sale, from tha
 t classic ‘78 Firebird, to a ‘66 Mustang,!  And of course the par
 ts.. tons!!! Individual auto parts, race parts, tools, toys, memorabil
 ia, motorcycles, even boats and ATV’s.  Its’ also a great opportu
 nity to talk shop and bench racing with many of those with the same in
 terest. Vendor registration can be found on our website at www.c-marat
 ta-swap.com, and there is even a $10.00 registration savings, if you s
 ign up before May 10th.\n\nAs a bonus, how many times have you been to
  these events, and find the spectator parking lot has some of the hott
 est cruise vehicles on the road?  We’re promoting this with a Car C
 orral... Bring your pre 1980 vehicle to the event, and you’ll be adm
 itted Free (driver only, please.)  That’s right, whether you show u
 p in you Wiley’s B/Gasser, or ‘78 Chevrolet Caprice Wagon, you qua
 lify for our Car Corral, and we award Trophies too!  \n\nLast year we
  awarded trophies for the best Hot Rod/Rat Rod, Muscle Car, Cruiser/An
 tique.... as well as neatest car we’d like to drive on the road.  W
 e even have a class for Connecticut Dragway Retro racer, so bring in t
 hat awesome racer you’ve had hidden in the garage.\n\nTo be determin
 ed, we always have a special guest with their racer to do what we call
  a sonic drag.... a start up and a wake up call of eight mighty cylind
 ers pumping away in their full glory. An awesome sight...AND SOUND!\n\
 nThe show is sponsored and presented by Carl Maratta, son of Frank Mar
 atta original founder of the Maratta Hartford Autorama, as well as the
  Connecticut Drag strip.  Carl, growing up in this fast paced drag ra
 cing world, continues the tradition today, by sponsoring not only this
  nostalgic look back, but by presenting a great opportunity to keep th
 e joy of car collecting, parts chasing and cruising with your car acti
 ve.\n\nSpectators are admitted for $10.00, children under twelve are f
 ree, and again, if you drive that classic cruiser, your admitted FREE.
 \n\nInformation and photos can be found www.c-maratta-swap.com\n\nWe l
 ook forward to seeing you on May 17th, and make sure you stop by and s
 ay hi to Carl!\n\nFor more information visit https://northeastwheelsev
 ents.com/events/carl-maratta-auto-swap-meet-and-car-corral
DTSTART:20150517T100000Z
DTEND:20150517T190000Z
CATEGORIES:auto, swap, meet, car, corral
LOCATION:Rentschler Field
WEBSITE:http://wwww.c-maratta-swap.com
URL:http://wwww.c-maratta-swap.com
CONTACT:860-680-6878
ORGANIZER:carl Maratta
ATTACH;FMTTYPE="image/jpeg":http://storage.ning.com/topology/rest/1.0/
 file/get/2284067773?profile=original
ATTENDEE;ROLE=REQ-PARTICIPANT;PARTSTAT=ACCEPTED;RSVP=TRUE;CN="robert b
 eaulieu":https://northeastwheelsevents.com/profile/robertbeaulieu
ATTENDEE;ROLE=REQ-PARTICIPANT;PARTSTAT=TENTATIVE;RSVP=TRUE;CN="A. M. L
 ussier":https://northeastwheelsevents.com/profile/AMLussier
END:VEVENT
END:VCALENDAR
