BEGIN:VCALENDAR
PRODID:NingEventWidget-v1
VERSION:2.0
METHOD:PUBLISH
BEGIN:VEVENT
UID:5167423:Event:173449
DTSTAMP:20260422T073958Z
SUMMARY:Carlisle Auctions Summer Sale
DESCRIPTION:Like \"Carlisle Auctions\" on Facebook for ALL event updat
 es & information!!  It was only a matter of time before Carlisle Aucti
 ons added another date to its schedule; it was just inevitable. Since 
 the launch of the brand in 2012, multiple auctions have been promoted 
 and after years of success and multiple sold out events, it is time to
  expand. Carlisle Auctions proudly announces a BRAND-NEW DATE and auct
 ion event, taking place in June at the Carlisle Expo Center.  Taking p
 lace on Saturday, June 16, the Carlisle Auctions Summer Sale offers a 
 full day of classic car excitement. Preview hours start at 8 a.m., wit
 h the auction slated to begin at 12 p.m. The day features a 200-car co
 llector/classic car auction backed by Carlisle Auctions. All bidders t
 hat are part of the upcoming Carlisle Auctions offering at Spring Carl
 isle in April will be invited back, at no additional cost, plus, with 
 the hot demand for collector car events such as this, bidder registrat
 ion is now open for everyone interested in being part of Carlisle Auct
 ions’ new summer classic as well as its other four events in 2018! 
   Learn more by calling Carlisle Auctions today at 717-960-6400.\n\nFo
 r more information visit https://northeastwheelsevents.com/events/carl
 isle-auctions-summer-sale
DTSTART:20180616T040000Z
DTEND:20180617T035900Z
CATEGORIES:auction
LOCATION:Carlisle Expo Center
WEBSITE:http://www.carlisleauctions.com/
URL:http://www.carlisleauctions.com/
CONTACT:7172437855
ORGANIZER:Carlisle Auctions
ATTACH;FMTTYPE="image/jpeg":http://storage.ning.com/topology/rest/1.0/
 file/get/2284101414?profile=original
ATTENDEE;ROLE=REQ-PARTICIPANT;PARTSTAT=ACCEPTED;RSVP=TRUE;CN="Carlisle
  Events":https://northeastwheelsevents.com/profile/MichaelGarland
END:VEVENT
END:VCALENDAR
