BEGIN:VCALENDAR
PRODID:NingEventWidget-v1
VERSION:2.0
METHOD:PUBLISH
BEGIN:VEVENT
UID:5167423:Event:17510
DTSTAMP:20260421T224538Z
SUMMARY:Carlisle Chrysler Nationals
DESCRIPTION:Welcome to a true Mopar-lover’s paradise. There’s noth
 ing quite like it anywhere in the world with over 2,100 vehicles from 
 all eras of the Chrysler brand, classics, muscle cars, high-performanc
 e new models all converge on Carlisle for a one of a kind weekend. You
  need to be here for the enormous showfield that is organized by year,
  make and model, special indoor displays, activities for the kids, ind
 ustry guests, special prizes and NHRA drag racing. Interested in parts
  buying? Look no further! You’ll be amazed at the size of the swap m
 eet, the variety of vendors, the car corral, and the Manufacturers Mid
 way. Whether you prefer the A, B or E body style – this show has it 
 all!\n\nFor more information visit https://northeastwheelsevents.com/e
 vents/carlisle-chrysler-nationals-1
DTSTART:20150710T040000Z
DTEND:20150713T035900Z
CATEGORIES:car, show
LOCATION:Carlisle PA Fairgrounds
WEBSITE:http://www.carlisleevents.com/carlisle-events/carlisle-chrysle
 r-nationals/default.aspx
URL:http://www.carlisleevents.com/carlisle-events/carlisle-chrysler-na
 tionals/default.aspx
CONTACT:717-243-7855
ORGANIZER:Carlisle Events
ATTACH;FMTTYPE="image/jpeg":http://storage.ning.com/topology/rest/1.0/
 file/get/2284048675?profile=original
ATTENDEE;ROLE=REQ-PARTICIPANT;PARTSTAT=ACCEPTED;RSVP=TRUE;CN="Carlisle
  Events":https://northeastwheelsevents.com/profile/MichaelGarland
END:VEVENT
END:VCALENDAR
