BEGIN:VCALENDAR
PRODID:NingEventWidget-v1
VERSION:2.0
METHOD:PUBLISH
BEGIN:VEVENT
UID:5167423:Event:345461
DTSTAMP:20260421T152535Z
SUMMARY:Carlisle Chrysler Nationals
DESCRIPTION:The Carlisle Chrysler Nationals, scheduled for July 10-12,
  2026, is set to be an exciting event for Mopar Enthusiast! Join us at
  the largest gathering of its kind, featuring 3,000+ vehicles that cel
 ebrate the rich history of the Chrysler brand. From classic cars to po
 werful muscle models and innovative high-performance vehicles, thereâ€
 ™s something for every Mopar enthusiast. In 2026, expect the Chrysler 
 Nationals to feel even more patriotic than normal, because it will cel
 ebrate 250 years of America! Some additional features will be 100 Year
 s of the Imperial, 55 Years of the â€™71 Plymouth Duster and more to c
 ome.\n\nExplore the Mopar Automotive Flea Market & Car Corral, where y
 ouâ€™ll find Mopars, parts, tools, memorabilia, and collectibles looki
 ng for new owners. The Manufacturers Midway will also present the late
 st and greatest products in the automotive industry. Donâ€™t miss this
  opportunity to immerse yourself in the celebration of all things Mopa
 r at the Carlisle Chrysler Nationals!\n\nFor more information visit ht
 tps://northeastwheelsevents.com/events/carlisle-chrysler-nationals-11
DTSTART:20260710T040000Z
DTEND:20260713T035900Z
CATEGORIES:car, show, swap, meet, corral
LOCATION:Carlisle Fairgrounds
WEBSITE:https://carlisleevents.com/events/events-detail/index?id=chrys
 ler+nationals
URL:https://carlisleevents.com/events/events-detail/index?id=chrysler+
 nationals
CONTACT:7172437855
ORGANIZER;CN="Carlisle Events":https://northeastwheelsevents.com/profi
 le/MichaelGarland
ATTACH;FMTTYPE="image/jpeg":https://storage.ning.com/topology/rest/1.0
 /file/get/12296231288?profile=original
ATTENDEE;ROLE=REQ-PARTICIPANT;PARTSTAT=ACCEPTED;RSVP=TRUE;CN="Carlisle
  Events":https://northeastwheelsevents.com/profile/MichaelGarland
END:VEVENT
END:VCALENDAR
